BEGIN:VCALENDAR
PRODID:-//TERMINALFOUR//SITEMANAGER V7.3//EN
VERSION:2.0
BEGIN:VEVENT
DTSTART:20240408T154500
LOCATION:
DESCRIPTION:Watch as the FNB Wits take on the FNB Shimlas at the Wits Stadium Tickets can be purchased on the Varsity Cup site
X-ALT-DESC;FMTTYPE=text/html:Watch as the FNB Wits take on the FNB Shimlas at the Wits Stadium
Tickets can be purchased on the
SUMMARY:Varsity Cup: FNB Wits vs FNB Shimlas END:VEVENT END:VCALENDAR