BEGIN:VCALENDAR
PRODID:-//TERMINALFOUR//SITEMANAGER V7.3//EN
VERSION:2.0
BEGIN:VEVENT
DTSTART:20230222T100000
LOCATION:
DESCRIPTION:This webinar will focus mainly on intentionally designing, building, and publishing your course site.
Learning Outcomes
By the end of the session, you should be able to:
• Structure your course using the Modules function
• Set up your homepage
• Upload and manage your files
• Add content to your course by
Building activities into a module
Outlining your own outcomes
Mode of Delivery: Online
Date: 22 February 2023
Time: 10:00-12:00
X-ALT-DESC;FMTTYPE=text/html:
This webinar will focus mainly on intentionally designing, building, and publishing your course site.
Learning Outcomes
By the end of the session, you should be able to:
• Structure your course using the Modules function
• Set up your homepage
• Upload and manage your files
• Add content to your course by
Mode of Delivery: Online
Date: 22 February 2023
Time: 10:00-12:00
SUMMARY:Designing & building your course on ulwazi END:VEVENT END:VCALENDAR