BEGIN:VCALENDAR
PRODID:-//TERMINALFOUR//SITEMANAGER V7.3//EN
VERSION:2.0
BEGIN:VEVENT
DTSTART:20230425T120000
LOCATION:
DESCRIPTION:This webinar will focus on facilitating synchronous online learning interactions in ulwazi. Some of the topics that will be covered include:
Accessing conferences
Setting up online meeting spaces
Facilitating synchronous learning in your course sites
Date: 25 April 2023
Time: 12:00 - 13:30
Venue: The online meeting link will be emailed once the booking is confirmed.
X-ALT-DESC;FMTTYPE=text/html:
This webinar will focus on facilitating synchronous online learning interactions in ulwazi. Some of the topics that will be covered include:
Date: 25 April 2023
Time: 12:00 - 13:30
Venue: The online meeting link will be emailed once the booking is confirmed.
SUMMARY:Intro to Conferences (“BigBlueButton”) in ulwazi END:VEVENT END:VCALENDAR