BEGIN:VCALENDAR
PRODID:-//TERMINALFOUR//SITEMANAGER V7.3//EN
VERSION:2.0
BEGIN:VEVENT
DTSTART:20231014T080000
LOCATION:
DESCRIPTION:Catch the last day of the exhibition by Lucelle Bernadette Pillay on Saturday, 14 October 2023.
Last Day: Saturday 14 October 2023
Afterisms: Excentric Data-Fluid Narratives interrogates the notion of Indian South µÚÒ»³Ô¹ÏÍø Identity formations. It evokes reflections on fragmented histories, divided geographies and the psychological trauma of ‘difference’. Afterisms contemplates the ‘aftermath’ of postcolonial and post-apartheid identities with beautiful visuals, artworks and projections.
Lucelle Bernadette Pillay is a visual artist and art and design lecturer, based in Johannesburg.
Exhibition last day is Saturday 14 October.
Tickets at the door. Enquiries: bookings.origins@wits.ac.za; 0117174700.
X-ALT-DESC;FMTTYPE=text/html:Catch the last day of the exhibition by Lucelle Bernadette Pillay on Saturday, 14 October 2023.
Last Day: Saturday 14 October 2023
Afterisms: Excentric Data-Fluid Narratives interrogates the notion of Indian South µÚÒ»³Ô¹ÏÍø Identity formations. It evokes reflections on fragmented histories, divided geographies and the psychological trauma of ‘difference’. Afterisms contemplates the ‘aftermath’ of postcolonial and post-apartheid identities with beautiful visuals, artworks and projections.
is a visual artist and art and design lecturer, based in Johannesburg.
Exhibition last day is Saturday 14 October.
Tickets at the door. Enquiries: bookings.origins@wits.ac.za; 0117174700.
SUMMARY:Exhibition: "Afterisms" END:VEVENT END:VCALENDAR